BEGIN:VCALENDAR
VERSION:2.0
PRODID:-//Irish Pony Society  - ECPv6.9.0//NONSGML v1.0//EN
CALSCALE:GREGORIAN
METHOD:PUBLISH
X-WR-CALNAME:Irish Pony Society 
X-ORIGINAL-URL:https://irishponysociety.ie
X-WR-CALDESC:Events for Irish Pony Society 
REFRESH-INTERVAL;VALUE=DURATION:PT1H
X-Robots-Tag:noindex
X-PUBLISHED-TTL:PT1H
BEGIN:VTIMEZONE
TZID:UTC
BEGIN:STANDARD
TZOFFSETFROM:+0000
TZOFFSETTO:+0000
TZNAME:UTC
DTSTART:20260101T000000
END:STANDARD
END:VTIMEZONE
BEGIN:VEVENT
DTSTART;TZID=UTC:20260426T080000
DTEND;TZID=UTC:20260426T170000
DTSTAMP:20260420T120803
CREATED:20260123T173455Z
LAST-MODIFIED:20260123T173455Z
UID:22272-1777190400-1777222800@irishponysociety.ie
SUMMARY:SPORTS PONY CHALLENGE FINAL IN BOSWELL APRIL 26th
DESCRIPTION:SPORTS PONY CHALLENGE FINAL
URL:https://irishponysociety.ie/event/sports-pony-challenge-final-in-boswell-april-26th/
LOCATION:BOSWELL EQUESTRIAN CENTRE\, Newtown Boswell\, Ashford\, wicklow\, A67H732\, Ireland
CATEGORIES:Shows
ORGANIZER;CN="Hillary MacHugh":MAILTO:machughh@gmail.com
END:VEVENT
END:VCALENDAR