BEGIN:VCALENDAR
VERSION:2.0
PRODID:-//Irish Pony Society  - ECPv6.9.0//NONSGML v1.0//EN
CALSCALE:GREGORIAN
METHOD:PUBLISH
X-ORIGINAL-URL:https://irishponysociety.ie
X-WR-CALDESC:Events for Irish Pony Society 
REFRESH-INTERVAL;VALUE=DURATION:PT1H
X-Robots-Tag:noindex
X-PUBLISHED-TTL:PT1H
BEGIN:VTIMEZONE
TZID:UTC
BEGIN:STANDARD
TZOFFSETFROM:+0000
TZOFFSETTO:+0000
TZNAME:UTC
DTSTART:20260101T000000
END:STANDARD
END:VTIMEZONE
BEGIN:VEVENT
DTSTART;VALUE=DATE:20260509
DTEND;VALUE=DATE:20260510
DTSTAMP:20260420T132843
CREATED:20260203T160210Z
LAST-MODIFIED:20260203T160210Z
UID:22319-1778284800-1778371199@irishponysociety.ie
SUMMARY:CORK AREA IPS SHOW - MAY 9TH
DESCRIPTION:https://www.facebook.com/sceiligequestrian/ \nSCHEDULE IS FORTHCOMING.
URL:https://irishponysociety.ie/event/cork-area-ips-show-may-9th/
LOCATION:SCEILIG EQUESTRIAN CENTRE\, CARRIGNAVAR\, CORK\, CORK\, T34YW61\, Ireland
CATEGORIES:Shows
ORGANIZER;CN="Claire Nulty":MAILTO:ipscorkarea@gmail.com
END:VEVENT
END:VCALENDAR