BEGIN:VCALENDAR
VERSION:2.0
PRODID:-//Irish Pony Society  - ECPv6.9.0//NONSGML v1.0//EN
CALSCALE:GREGORIAN
METHOD:PUBLISH
X-ORIGINAL-URL:https://irishponysociety.ie
X-WR-CALDESC:Events for Irish Pony Society 
REFRESH-INTERVAL;VALUE=DURATION:PT1H
X-Robots-Tag:noindex
X-PUBLISHED-TTL:PT1H
BEGIN:VTIMEZONE
TZID:UTC
BEGIN:STANDARD
TZOFFSETFROM:+0000
TZOFFSETTO:+0000
TZNAME:UTC
DTSTART:20260101T000000
END:STANDARD
END:VTIMEZONE
BEGIN:VEVENT
DTSTART;VALUE=DATE:20260510
DTEND;VALUE=DATE:20260511
DTSTAMP:20260420T132844
CREATED:20251101T121531Z
LAST-MODIFIED:20251203T163105Z
UID:22108-1778371200-1778457599@irishponysociety.ie
SUMMARY:WELSH PONY & COB SOCIETY OF IRELAND MAY 10TH
DESCRIPTION:ENTRIES CLOSE MAY 6TH \nirishwpcs@gmail.com \nSCHEDULE FORTHCOMING
URL:https://irishponysociety.ie/event/welsh-pony-cob-society-of-ireland/
LOCATION:kilbride\, CALLAN\, KILKENNY\, Ireland
CATEGORIES:Shows
END:VEVENT
END:VCALENDAR