BEGIN:VCALENDAR
VERSION:2.0
PRODID:-//Irish Pony Society  - ECPv6.9.0//NONSGML v1.0//EN
CALSCALE:GREGORIAN
METHOD:PUBLISH
X-WR-CALNAME:Irish Pony Society 
X-ORIGINAL-URL:https://irishponysociety.ie
X-WR-CALDESC:Events for Irish Pony Society 
REFRESH-INTERVAL;VALUE=DURATION:PT1H
X-Robots-Tag:noindex
X-PUBLISHED-TTL:PT1H
BEGIN:VTIMEZONE
TZID:UTC
BEGIN:STANDARD
TZOFFSETFROM:+0000
TZOFFSETTO:+0000
TZNAME:UTC
DTSTART:20260101T000000
END:STANDARD
END:VTIMEZONE
BEGIN:VEVENT
DTSTART;VALUE=DATE:20260530
DTEND;VALUE=DATE:20260531
DTSTAMP:20260420T132656
CREATED:20260310T104116Z
LAST-MODIFIED:20260310T104116Z
UID:22420-1780099200-1780185599@irishponysociety.ie
SUMMARY:BELGOOLY SHOW MAY 30TH\, 2026
DESCRIPTION:
URL:https://irishponysociety.ie/event/belgooly-show-may-30th-2026/
LOCATION:BALLINGARRY\, BELGOOLY\, CORK\, CORK\, P17FD35\, Ireland
CATEGORIES:Shows
ORGANIZER;CN="Eileen Aherne":MAILTO:belgoolyshow@gmail.com
END:VEVENT
BEGIN:VEVENT
DTSTART;VALUE=DATE:20260530
DTEND;VALUE=DATE:20260531
DTSTAMP:20260420T132656
CREATED:20260402T132538Z
LAST-MODIFIED:20260402T132538Z
UID:22649-1780099200-1780185599@irishponysociety.ie
SUMMARY:BELGOOLY SHOW MAY 30TH\, 2026
DESCRIPTION:ENTRIES CLOSE 19/5/2026 \nHome \n \n 
URL:https://irishponysociety.ie/event/belgooly-show-may-30th-2026-2/
LOCATION:BALLINGARRY\, BELGOOLY\, CORK\, CORK\, P17FD35\, Ireland
CATEGORIES:Shows
ORGANIZER;CN="Eileen Aherne":MAILTO:belgoolyshow@gmail.com
END:VEVENT
END:VCALENDAR