BEGIN:VCALENDAR
VERSION:2.0
PRODID:-//Irish Pony Society  - ECPv6.9.0//NONSGML v1.0//EN
CALSCALE:GREGORIAN
METHOD:PUBLISH
X-WR-CALNAME:Irish Pony Society 
X-ORIGINAL-URL:https://irishponysociety.ie
X-WR-CALDESC:Events for Irish Pony Society 
REFRESH-INTERVAL;VALUE=DURATION:PT1H
X-Robots-Tag:noindex
X-PUBLISHED-TTL:PT1H
BEGIN:VTIMEZONE
TZID:Europe/London
BEGIN:DAYLIGHT
TZOFFSETFROM:+0000
TZOFFSETTO:+0100
TZNAME:BST
DTSTART:20240331T010000
END:DAYLIGHT
BEGIN:STANDARD
TZOFFSETFROM:+0100
TZOFFSETTO:+0000
TZNAME:GMT
DTSTART:20241027T010000
END:STANDARD
END:VTIMEZONE
BEGIN:VEVENT
DTSTART;TZID=Europe/London:20240319T190000
DTEND;TZID=Europe/London:20240319T203000
DTSTAMP:20260420T235113
CREATED:20240302T153843Z
LAST-MODIFIED:20240302T153843Z
UID:16836-1710874800-1710880200@irishponysociety.ie
SUMMARY:IPS AGM - Barberstown Castle 7.00pm
DESCRIPTION:Register: Irish Pony Society – Its Plain Sailing Online Payments page events \n 
URL:https://irishponysociety.ie/event/ips-agm-barberstown-castle-7-00pm/
CATEGORIES:AGMs
END:VEVENT
END:VCALENDAR