BEGIN:VCALENDAR
VERSION:2.0
PRODID:-//Irish Pony Society  - ECPv6.9.0//NONSGML v1.0//EN
CALSCALE:GREGORIAN
METHOD:PUBLISH
X-WR-CALNAME:Irish Pony Society 
X-ORIGINAL-URL:https://irishponysociety.ie
X-WR-CALDESC:Events for Irish Pony Society 
REFRESH-INTERVAL;VALUE=DURATION:PT1H
X-Robots-Tag:noindex
X-PUBLISHED-TTL:PT1H
BEGIN:VTIMEZONE
TZID:Europe/London
BEGIN:DAYLIGHT
TZOFFSETFROM:+0000
TZOFFSETTO:+0100
TZNAME:BST
DTSTART:20230326T010000
END:DAYLIGHT
BEGIN:STANDARD
TZOFFSETFROM:+0100
TZOFFSETTO:+0000
TZNAME:GMT
DTSTART:20231029T010000
END:STANDARD
END:VTIMEZONE
BEGIN:VEVENT
DTSTART;VALUE=DATE:20230702
DTEND;VALUE=DATE:20230703
DTSTAMP:20260421T023059
CREATED:20230615T132938Z
LAST-MODIFIED:20230615T132938Z
UID:15468-1688256000-1688342399@irishponysociety.ie
SUMMARY:Dunmanaway Agricultural Show - Co. Cork
DESCRIPTION:Secretary: Kitty Cotter \nWebsite: Dunmanway Show \nFacebook: (2) Facebook
URL:https://irishponysociety.ie/event/dunmanaway-agricultural-show-co-cork/
CATEGORIES:Shows
END:VEVENT
BEGIN:VEVENT
DTSTART;VALUE=DATE:20230702
DTEND;VALUE=DATE:20230703
DTSTAMP:20260421T023059
CREATED:20230601T155044Z
LAST-MODIFIED:20230601T155044Z
UID:15249-1688256000-1688342399@irishponysociety.ie
SUMMARY:Clonmel Agricultural Show - Co. Tipperary
DESCRIPTION:Website: Clonmel Show \nFacebook: (3) Clonmel Agricultural Show | Clonmel | Facebook
URL:https://irishponysociety.ie/event/clonmel-agricultural-show-co-tipperary/
END:VEVENT
BEGIN:VEVENT
DTSTART;VALUE=DATE:20230701
DTEND;VALUE=DATE:20230702
DTSTAMP:20260421T023059
CREATED:20230606T114344Z
LAST-MODIFIED:20230606T114344Z
UID:15283-1688169600-1688255999@irishponysociety.ie
SUMMARY:Knockagh View Summer Gala Show - Co.Antrim
DESCRIPTION:Facebook: (8) Facebook \nContact : Ruth Logan
URL:https://irishponysociety.ie/event/knockagh-view-summer-gala-show-co-antrim/
CATEGORIES:Shows
END:VEVENT
BEGIN:VEVENT
DTSTART;VALUE=DATE:20230701
DTEND;VALUE=DATE:20230702
DTSTAMP:20260421T023059
CREATED:20230606T114105Z
LAST-MODIFIED:20230606T114105Z
UID:15281-1688169600-1688255999@irishponysociety.ie
SUMMARY:Adamstown Show - Co. Wexford
DESCRIPTION:Website: Adamstown Agricultural Show | Saturday 1st of July 2023 (adamstownshow.com) \nFacebook: (8) Facebook
URL:https://irishponysociety.ie/event/adamstown-show-co-wexford/
CATEGORIES:Shows
END:VEVENT
BEGIN:VEVENT
DTSTART;VALUE=DATE:20230701
DTEND;VALUE=DATE:20230702
DTSTAMP:20260421T023059
CREATED:20230314T112123Z
LAST-MODIFIED:20230314T112123Z
UID:14647-1688169600-1688255999@irishponysociety.ie
SUMMARY:Killusty - Co. Tipperary
DESCRIPTION:Secretary: Jennifer Butler  Phone: 086 1531103 Email: killustyponyshow@gmail.com \nSchedule: Killusty Pony Schedule 2023
URL:https://irishponysociety.ie/event/killusty-co-tipperary/
CATEGORIES:Shows
END:VEVENT
BEGIN:VEVENT
DTSTART;VALUE=DATE:20230630
DTEND;VALUE=DATE:20230702
DTSTAMP:20260421T023059
CREATED:20230328T162651Z
LAST-MODIFIED:20230328T162651Z
UID:14724-1688083200-1688255999@irishponysociety.ie
SUMMARY:Omagh Show - Co Tyrone
DESCRIPTION:Secretary: Andrew Short Phone: 00442882242500 \nEmail: info@tyronefarmingsociety.co.uk \nWebsite:http://www.tyronefarmingsociety.co.uk \nEircode: BT78 5PN
URL:https://irishponysociety.ie/event/omagh-show-co-tyrone/
CATEGORIES:Shows
END:VEVENT
BEGIN:VEVENT
DTSTART;VALUE=DATE:20230625
DTEND;VALUE=DATE:20230626
DTSTAMP:20260421T023059
CREATED:20230220T141230Z
LAST-MODIFIED:20230220T141230Z
UID:14541-1687651200-1687737599@irishponysociety.ie
SUMMARY:Sports Pony Challenge - Qualifier Boswell
DESCRIPTION:Third Leg of the 2023 SPC – details to follow shortly
URL:https://irishponysociety.ie/event/sports-pony-challenge-qualifier-boswell/
END:VEVENT
BEGIN:VEVENT
DTSTART;VALUE=DATE:20230625
DTEND;VALUE=DATE:20230626
DTSTAMP:20260421T023059
CREATED:20230130T122319Z
LAST-MODIFIED:20230130T122319Z
UID:14378-1687651200-1687737599@irishponysociety.ie
SUMMARY:Ballyfoyle Agricultural Show - Co. Kilkenny
DESCRIPTION:Secretary: Anne McGrath Phone: 087-6801073 Email: ballyfoyleshow@gmail.com \nFacebook: Ballyfoyle Agricultural Show | Kilkenny | Facebook \nEircode: R95Y 2YO \n 
URL:https://irishponysociety.ie/event/ballyfoyle-agricultural-show-co-kilkenny/
END:VEVENT
BEGIN:VEVENT
DTSTART;VALUE=DATE:20230624
DTEND;VALUE=DATE:20230626
DTSTAMP:20260421T023059
CREATED:20230321T114956Z
LAST-MODIFIED:20230321T114956Z
UID:14696-1687564800-1687737599@irishponysociety.ie
SUMMARY:Charleville Show
DESCRIPTION:Secretary: Elaine Goold Website: https://www.charlevilleshow.com/ \n 
URL:https://irishponysociety.ie/event/charleville-show/
CATEGORIES:Shows
END:VEVENT
BEGIN:VEVENT
DTSTART;VALUE=DATE:20230618
DTEND;VALUE=DATE:20230619
DTSTAMP:20260421T023059
CREATED:20230329T155735Z
LAST-MODIFIED:20230329T155735Z
UID:14728-1687046400-1687132799@irishponysociety.ie
SUMMARY:Kilbride Equestrian Summer Show
DESCRIPTION:Secretary: Bianca Lennon
URL:https://irishponysociety.ie/event/kilbride-equestrian-summer-show/
CATEGORIES:Shows
END:VEVENT
BEGIN:VEVENT
DTSTART;VALUE=DATE:20230617
DTEND;VALUE=DATE:20230618
DTSTAMP:20260421T023059
CREATED:20230601T112459Z
LAST-MODIFIED:20230601T112459Z
UID:15246-1686960000-1687046399@irishponysociety.ie
SUMMARY:Gorey Agricultural Show - Co. Wexford
DESCRIPTION:Website: About the Show – Gorey Agricultural Show \nFacebook: (4) Gorey Agricultural Show | Gorey | Facebook
URL:https://irishponysociety.ie/event/gorey-agricultural-show-co-wexford/
CATEGORIES:Shows
END:VEVENT
BEGIN:VEVENT
DTSTART;VALUE=DATE:20230617
DTEND;VALUE=DATE:20230618
DTSTAMP:20260421T023059
CREATED:20230517T120617Z
LAST-MODIFIED:20230517T120617Z
UID:15089-1686960000-1687046399@irishponysociety.ie
SUMMARY:Finn Valley Show  Co. Donegal
DESCRIPTION:Email: finnvalleyshow@gmail.com \nFacebook: Finn Valley Show | Facebook
URL:https://irishponysociety.ie/event/finn-valley-show-co-donegal/
CATEGORIES:Shows
END:VEVENT
BEGIN:VEVENT
DTSTART;VALUE=DATE:20230617
DTEND;VALUE=DATE:20230618
DTSTAMP:20260421T023059
CREATED:20230509T130109Z
LAST-MODIFIED:20230509T130109Z
UID:15044-1686960000-1687046399@irishponysociety.ie
SUMMARY:Cork Summer Show
DESCRIPTION:Cork Show Grounds \nShow Classes – Cork Summer Show \n 
URL:https://irishponysociety.ie/event/cork-summer-show-3/
CATEGORIES:Shows
END:VEVENT
BEGIN:VEVENT
DTSTART;VALUE=DATE:20230611
DTEND;VALUE=DATE:20230612
DTSTAMP:20260421T023059
CREATED:20230427T134529Z
LAST-MODIFIED:20230427T134529Z
UID:14981-1686441600-1686527999@irishponysociety.ie
SUMMARY:Claregalway - Agricultural Show
DESCRIPTION:Email: info@claregalwayagriculturalshow.ie \nSecretary: Carmel Casserly \nFacebook:(4) Claregalway Agricultural Show | Claregalway | Facebook \nWebsite:Claregalway Agricultural Show \n 
URL:https://irishponysociety.ie/event/claregalway-agricultural-show/
CATEGORIES:Shows
END:VEVENT
BEGIN:VEVENT
DTSTART;VALUE=DATE:20230611
DTEND;VALUE=DATE:20230612
DTSTAMP:20260421T023059
CREATED:20230328T160143Z
LAST-MODIFIED:20230328T160143Z
UID:14721-1686441600-1686527999@irishponysociety.ie
SUMMARY:Clonakilty Agricultural Show - Co. Cork
DESCRIPTION:Secretary: Sheila Jennings Phone: 0871149651 \nEmail: clonakiltyshow@gmail.com \nFacebook: https://www.facebook.com/ClonakiltyShow
URL:https://irishponysociety.ie/event/clonakilty-agricultural-show-co-cork/
CATEGORIES:Shows
END:VEVENT
BEGIN:VEVENT
DTSTART;VALUE=DATE:20230611
DTEND;VALUE=DATE:20230612
DTSTAMP:20260421T023059
CREATED:20230207T102633Z
LAST-MODIFIED:20230207T102633Z
UID:14462-1686441600-1686527999@irishponysociety.ie
SUMMARY:North Western Area Show
DESCRIPTION:Secretary: TBC
URL:https://irishponysociety.ie/event/north-western-area-show/
CATEGORIES:Shows
END:VEVENT
BEGIN:VEVENT
DTSTART;VALUE=DATE:20230610
DTEND;VALUE=DATE:20230611
DTSTAMP:20260421T023059
CREATED:20230314T112903Z
LAST-MODIFIED:20230314T112903Z
UID:14650-1686355200-1686441599@irishponysociety.ie
SUMMARY:Ballivor Show - Co. Meath
DESCRIPTION:Secretary: Rosaleen Barry Phone: 087 2626444
URL:https://irishponysociety.ie/event/ballivor-show-co-meath/
CATEGORIES:Shows
END:VEVENT
BEGIN:VEVENT
DTSTART;VALUE=DATE:20230605
DTEND;VALUE=DATE:20230606
DTSTAMP:20260421T023059
CREATED:20230427T141235Z
LAST-MODIFIED:20230427T141235Z
UID:14983-1685923200-1686009599@irishponysociety.ie
SUMMARY:Leap Horse & Pony Show Co. Cork
DESCRIPTION:Secretary: Eleanor Calnan \nEmail: eleanorcalnan@icloud.com \nFacebook: (4) Leaphorse & pony show | Facebook
URL:https://irishponysociety.ie/event/leap-horse-pony-show-co-cork/
CATEGORIES:Shows
END:VEVENT
BEGIN:VEVENT
DTSTART;VALUE=DATE:20230605
DTEND;VALUE=DATE:20230606
DTSTAMP:20260421T023059
CREATED:20221110T125436Z
LAST-MODIFIED:20221110T125436Z
UID:14160-1685923200-1686009599@irishponysociety.ie
SUMMARY:Limerick Clare IPS Annual Show
DESCRIPTION:Show Secretary: Des O’Sullivan \nFacebook: (1) Ips Limerick Clare | Facebook \n 
URL:https://irishponysociety.ie/event/limerick-clare-ips-annual-show/
CATEGORIES:Shows
END:VEVENT
BEGIN:VEVENT
DTSTART;VALUE=DATE:20230604
DTEND;VALUE=DATE:20230605
DTSTAMP:20260421T023059
CREATED:20230424T140927Z
LAST-MODIFIED:20230424T140927Z
UID:14965-1685836800-1685923199@irishponysociety.ie
SUMMARY:Raheendaw Horse & Pony Show - Co. Carlow
DESCRIPTION:Email: raheendawshow@gmail.com Secretary: Emily Corrigan \nFacebook: (3) Raheendaw Horse & Pony Show | Facebook
URL:https://irishponysociety.ie/event/raheendaw-horse-pony-show-co-carlow/
END:VEVENT
BEGIN:VEVENT
DTSTART;TZID=Europe/London:20230603T080000
DTEND;TZID=Europe/London:20230603T170000
DTSTAMP:20260421T023059
CREATED:20230306T095412Z
LAST-MODIFIED:20230306T095412Z
UID:14624-1685779200-1685811600@irishponysociety.ie
SUMMARY:Belgooly Show - Co. Cork
DESCRIPTION:Secretary: Eileen Ahern Phone: 021-4770980 Email: belgoolyshow@gmail.com \nwww.belgoolyshow.com \nEircode: P17 FD35
URL:https://irishponysociety.ie/event/belgooly-show-co-cork/
CATEGORIES:Shows
END:VEVENT
BEGIN:VEVENT
DTSTART;VALUE=DATE:20230603
DTEND;VALUE=DATE:20230604
DTSTAMP:20260421T023059
CREATED:20230424T124201Z
LAST-MODIFIED:20230424T124201Z
UID:14959-1685750400-1685836799@irishponysociety.ie
SUMMARY:Western Area IPS Show - Co. Galway
DESCRIPTION:Schedule: Western Area Summer Show 2023 \nSecretary: Imelda O’Shaughnessy \nFacebook: (2) Irish Pony Society Western Area | Facebook
URL:https://irishponysociety.ie/event/western-area-ips-show-co-galway/
CATEGORIES:Shows
END:VEVENT
BEGIN:VEVENT
DTSTART;VALUE=DATE:20230602
DTEND;VALUE=DATE:20230604
DTSTAMP:20260421T023059
CREATED:20230130T103430Z
LAST-MODIFIED:20230130T103430Z
UID:14370-1685664000-1685836799@irishponysociety.ie
SUMMARY:Ballymoney Show - Co. Antrim
DESCRIPTION:Secretary: Anne McLaughlin Email: secretary@ballymoneyshow.org Phone: 07713519928 \nWebsite: Ballymoney Show | North Antrim Agricultural Association \nFacebook: Ballymoney Show | Facebook \nEircode: BT53 6BW
URL:https://irishponysociety.ie/event/ballymoney-show-co-antrim/
CATEGORIES:Shows
END:VEVENT
BEGIN:VEVENT
DTSTART;VALUE=DATE:20230528
DTEND;VALUE=DATE:20230529
DTSTAMP:20260421T023059
CREATED:20230515T140612Z
LAST-MODIFIED:20230515T140612Z
UID:15069-1685232000-1685318399@irishponysociety.ie
SUMMARY:Midleton Show - Co Cork
DESCRIPTION:Contact: Phyllis Lynch\, Ballinvinny\, Glanmire\, Co Cork. Tel 021 4821553 — 086 8800103. \nMidleton Agricultural Show (midletonshow.com) \nBallindenisk\, Watergrasshill\, CO CORK. T56 YX60
URL:https://irishponysociety.ie/event/midleton-show-co-cork/
CATEGORIES:Shows
END:VEVENT
BEGIN:VEVENT
DTSTART;VALUE=DATE:20230528
DTEND;VALUE=DATE:20230529
DTSTAMP:20260421T023059
CREATED:20230314T103437Z
LAST-MODIFIED:20230314T103437Z
UID:14642-1685232000-1685318399@irishponysociety.ie
SUMMARY:Athenry Agricultural Show - Galway
DESCRIPTION:Website: http://www.athenryagrishow.com \nSecretary: Claire Rooney Email: athenryagriculturalshow@gmail.com Phone: 086 0848372
URL:https://irishponysociety.ie/event/athenry-agricultural-show-galway/
CATEGORIES:Shows
END:VEVENT
BEGIN:VEVENT
DTSTART;VALUE=DATE:20230527
DTEND;VALUE=DATE:20230528
DTSTAMP:20260421T023059
CREATED:20230420T152158Z
LAST-MODIFIED:20230420T152158Z
UID:14933-1685145600-1685231999@irishponysociety.ie
SUMMARY:Glandoran Island Show
DESCRIPTION:Secretary: Samantha Cushe \nFacebook: Glandoran Island Summer Show. \nWebsite: Glandoran Island Summer Show (glandoranislandshow.ie)
URL:https://irishponysociety.ie/event/glandoran-island-show/
CATEGORIES:Shows
END:VEVENT
BEGIN:VEVENT
DTSTART;VALUE=DATE:20230527
DTEND;VALUE=DATE:20230528
DTSTAMP:20260421T023059
CREATED:20230330T160818Z
LAST-MODIFIED:20230330T160818Z
UID:14741-1685145600-1685231999@irishponysociety.ie
SUMMARY:Knockaghview Spring Spectacular - Co. Antrim
DESCRIPTION:Secretary: Ruth Logan Email: knockaghviewec@yahoo.com \nWebsite: Knockagh View Equestrian Centre (knockaghviewec.com) \nFacebook: Knockagh View Equestrian Centre | Facebook
URL:https://irishponysociety.ie/event/knockaghview-spring-spectacular-co-antrim/
CATEGORIES:Shows
END:VEVENT
BEGIN:VEVENT
DTSTART;TZID=Europe/London:20230522T070000
DTEND;TZID=Europe/London:20230522T203000
DTSTAMP:20260421T023059
CREATED:20230517T115018Z
LAST-MODIFIED:20230517T115018Z
UID:15086-1684738800-1684787400@irishponysociety.ie
SUMMARY:IPS AGM 2022
DESCRIPTION:Hodson Bay Hotel\, Roscommon Road\, Athlone N37 XR82
URL:https://irishponysociety.ie/event/ips-agm-2022/
CATEGORIES:AGMs
END:VEVENT
BEGIN:VEVENT
DTSTART;VALUE=DATE:20230521
DTEND;VALUE=DATE:20230522
DTSTAMP:20260421T023059
CREATED:20230314T190443Z
LAST-MODIFIED:20230314T190443Z
UID:14652-1684627200-1684713599@irishponysociety.ie
SUMMARY:Bandon Agricultural Show - Cork
DESCRIPTION:Secretary: Roisin Shannahan Email: thebandonshow@gmail.com Phone: 086-19361193 \nWebsite: www.bandonshow.com
URL:https://irishponysociety.ie/event/bandon-agricultural-show-cork/
CATEGORIES:Shows
END:VEVENT
BEGIN:VEVENT
DTSTART;VALUE=DATE:20230521
DTEND;VALUE=DATE:20230522
DTSTAMP:20260421T023059
CREATED:20230220T141007Z
LAST-MODIFIED:20230220T141007Z
UID:14539-1684627200-1684713599@irishponysociety.ie
SUMMARY:Sports Pony Challenge - Qualifier - Mullingar
DESCRIPTION:Second Leg of the 2023 SPC – details to follow shortly
URL:https://irishponysociety.ie/event/sports-pony-challenge-qualifier-mullingar/
CATEGORIES:Shows
END:VEVENT
END:VCALENDAR