BEGIN:VCALENDAR
VERSION:2.0
PRODID:-//Irish Pony Society  - ECPv6.9.0//NONSGML v1.0//EN
CALSCALE:GREGORIAN
METHOD:PUBLISH
X-ORIGINAL-URL:https://irishponysociety.ie
X-WR-CALDESC:Events for Irish Pony Society 
REFRESH-INTERVAL;VALUE=DURATION:PT1H
X-Robots-Tag:noindex
X-PUBLISHED-TTL:PT1H
BEGIN:VTIMEZONE
TZID:UTC
BEGIN:STANDARD
TZOFFSETFROM:+0000
TZOFFSETTO:+0000
TZNAME:UTC
DTSTART:20260101T000000
END:STANDARD
END:VTIMEZONE
BEGIN:VEVENT
DTSTART;VALUE=DATE:20260509
DTEND;VALUE=DATE:20260510
DTSTAMP:20260420T120915
CREATED:20260203T160210Z
LAST-MODIFIED:20260203T160210Z
UID:22319-1778284800-1778371199@irishponysociety.ie
SUMMARY:CORK AREA IPS SHOW - MAY 9TH
DESCRIPTION:https://www.facebook.com/sceiligequestrian/ \nSCHEDULE IS FORTHCOMING.
URL:https://irishponysociety.ie/event/cork-area-ips-show-may-9th/
LOCATION:SCEILIG EQUESTRIAN CENTRE\, CARRIGNAVAR\, CORK\, CORK\, T34YW61\, Ireland
CATEGORIES:Shows
ORGANIZER;CN="Claire Nulty":MAILTO:ipscorkarea@gmail.com
END:VEVENT
BEGIN:VEVENT
DTSTART;VALUE=DATE:20260510
DTEND;VALUE=DATE:20260511
DTSTAMP:20260420T120915
CREATED:20251101T121531Z
LAST-MODIFIED:20251203T163105Z
UID:22108-1778371200-1778457599@irishponysociety.ie
SUMMARY:WELSH PONY & COB SOCIETY OF IRELAND MAY 10TH
DESCRIPTION:ENTRIES CLOSE MAY 6TH \nirishwpcs@gmail.com \nSCHEDULE FORTHCOMING
URL:https://irishponysociety.ie/event/welsh-pony-cob-society-of-ireland/
LOCATION:kilbride\, CALLAN\, KILKENNY\, Ireland
CATEGORIES:Shows
END:VEVENT
BEGIN:VEVENT
DTSTART;VALUE=DATE:20260517
DTEND;VALUE=DATE:20260518
DTSTAMP:20260420T120915
CREATED:20260326T130343Z
LAST-MODIFIED:20260414T171243Z
UID:22561-1778976000-1779062399@irishponysociety.ie
SUMMARY:BANDON AGRICULTRUAL SHOW MAY 17TH
DESCRIPTION:https://www.bandonshow.com/ \n  \n  \nbandon_agricultural_show_2026_schedule
URL:https://irishponysociety.ie/event/bandon-agricultrual-show-may-16th/
LOCATION:BANDON SHOWGROUNDS\, KILLOUNTAIN\, BANDON\, CORK\, P72AE35\, Ireland
CATEGORIES:Shows
ORGANIZER;CN="Jane Lumley":MAILTO:thebandonshow@gmail.com
END:VEVENT
BEGIN:VEVENT
DTSTART;VALUE=DATE:20260524
DTEND;VALUE=DATE:20260525
DTSTAMP:20260420T120915
CREATED:20251202T190623Z
LAST-MODIFIED:20251202T190623Z
UID:22142-1779580800-1779667199@irishponysociety.ie
SUMMARY:RDS IPS WH QUALIFIER BANNER EQUESTRIAN CLARE
DESCRIPTION:
URL:https://irishponysociety.ie/event/rds-ips-wh-qualifier-banner-equestrian-clare/
LOCATION:Banner Equestrian\, Toonagh\, Fountain\, Ennis\, Clare\, V95XC95\, Ireland
CATEGORIES:Qualifier,Shows
ORGANIZER;CN="Pat Walsh":MAILTO:info@irishponysociety.ie
END:VEVENT
BEGIN:VEVENT
DTSTART;VALUE=DATE:20260524
DTEND;VALUE=DATE:20260525
DTSTAMP:20260420T120915
CREATED:20260306T130053Z
LAST-MODIFIED:20260306T130103Z
UID:22406-1779580800-1779667199@irishponysociety.ie
SUMMARY:ATHENRY AGRICULTURAL SHOW MAY 24TH
DESCRIPTION:https://www.athenryagrishow.com/ \n  \nhttps://www.facebook.com/Athenryshow/
URL:https://irishponysociety.ie/event/athenry-agricultural-show-may-24th/
LOCATION:Teagasc\, Mellows Campus\, Athenry\, Galway\, H65R718\, Ireland
CATEGORIES:Shows
ORGANIZER;CN="Aoife Burke":MAILTO:athenryagriculturalshow@gmail.com
END:VEVENT
BEGIN:VEVENT
DTSTART;VALUE=DATE:20260530
DTEND;VALUE=DATE:20260531
DTSTAMP:20260420T120915
CREATED:20260310T104116Z
LAST-MODIFIED:20260310T104116Z
UID:22420-1780099200-1780185599@irishponysociety.ie
SUMMARY:BELGOOLY SHOW MAY 30TH\, 2026
DESCRIPTION:
URL:https://irishponysociety.ie/event/belgooly-show-may-30th-2026/
LOCATION:BALLINGARRY\, BELGOOLY\, CORK\, CORK\, P17FD35\, Ireland
CATEGORIES:Shows
ORGANIZER;CN="Eileen Aherne":MAILTO:belgoolyshow@gmail.com
END:VEVENT
BEGIN:VEVENT
DTSTART;VALUE=DATE:20260530
DTEND;VALUE=DATE:20260531
DTSTAMP:20260420T120915
CREATED:20260402T132538Z
LAST-MODIFIED:20260402T132538Z
UID:22649-1780099200-1780185599@irishponysociety.ie
SUMMARY:BELGOOLY SHOW MAY 30TH\, 2026
DESCRIPTION:ENTRIES CLOSE 19/5/2026 \nHome \n \n 
URL:https://irishponysociety.ie/event/belgooly-show-may-30th-2026-2/
LOCATION:BALLINGARRY\, BELGOOLY\, CORK\, CORK\, P17FD35\, Ireland
CATEGORIES:Shows
ORGANIZER;CN="Eileen Aherne":MAILTO:belgoolyshow@gmail.com
END:VEVENT
BEGIN:VEVENT
DTSTART;VALUE=DATE:20260531
DTEND;VALUE=DATE:20260601
DTSTAMP:20260420T120915
CREATED:20251202T190732Z
LAST-MODIFIED:20251202T190732Z
UID:22144-1780185600-1780271999@irishponysociety.ie
SUMMARY:RDS IPS WH HUNTER QUALIFIER KILBRIDE EQUESTRIAN CENTRE - KILKENNY
DESCRIPTION:
URL:https://irishponysociety.ie/event/rds-ips-wh-hunter-qualifier-kilbride-equestrian-centre-kilkenny/
LOCATION:kilbride\, CALLAN\, KILKENNY\, Ireland
CATEGORIES:Qualifier,Shows
ORGANIZER;CN="Pat Walsh":MAILTO:info@irishponysociety.ie
END:VEVENT
END:VCALENDAR